BEGIN:VCALENDAR
VERSION:2.0
PRODID:-//Fülle des Erdenlichts - ECPv6.15.20//NONSGML v1.0//EN
CALSCALE:GREGORIAN
METHOD:PUBLISH
X-WR-CALNAME:Fülle des Erdenlichts
X-ORIGINAL-URL:https://www.fuelle-des-erdenlichts.de
X-WR-CALDESC:Veranstaltungen für Fülle des Erdenlichts
REFRESH-INTERVAL;VALUE=DURATION:PT1H
X-Robots-Tag:noindex
X-PUBLISHED-TTL:PT1H
BEGIN:VTIMEZONE
TZID:Europe/Berlin
BEGIN:DAYLIGHT
TZOFFSETFROM:+0100
TZOFFSETTO:+0200
TZNAME:CEST
DTSTART:20250330T010000
END:DAYLIGHT
BEGIN:STANDARD
TZOFFSETFROM:+0200
TZOFFSETTO:+0100
TZNAME:CET
DTSTART:20251026T010000
END:STANDARD
BEGIN:DAYLIGHT
TZOFFSETFROM:+0100
TZOFFSETTO:+0200
TZNAME:CEST
DTSTART:20260329T010000
END:DAYLIGHT
BEGIN:STANDARD
TZOFFSETFROM:+0200
TZOFFSETTO:+0100
TZNAME:CET
DTSTART:20261025T010000
END:STANDARD
BEGIN:DAYLIGHT
TZOFFSETFROM:+0100
TZOFFSETTO:+0200
TZNAME:CEST
DTSTART:20270328T010000
END:DAYLIGHT
BEGIN:STANDARD
TZOFFSETFROM:+0200
TZOFFSETTO:+0100
TZNAME:CET
DTSTART:20271031T010000
END:STANDARD
END:VTIMEZONE
BEGIN:VEVENT
DTSTART;TZID=Europe/Berlin:20260425T100000
DTEND;TZID=Europe/Berlin:20260426T170000
DTSTAMP:20260425T142917
CREATED:20251211T123847Z
LAST-MODIFIED:20251211T123847Z
UID:15049-1777111200-1777222800@www.fuelle-des-erdenlichts.de
SUMMARY:Loslassen 1 – Sich lösen aus der Opferrolle
DESCRIPTION:Das Leben tiefer begreifen!\n\n\n\nLoslassen\, sich lösen aus der Opferrolle\, bedeutet negative bekannte Muster\, Haltungen und Verhaltensweisen erkennen und verstehen… mehr hier Loslassen 1
URL:https://www.fuelle-des-erdenlichts.de/event/loslassen-1-sich-loesen-aus-der-opferrolle/
END:VEVENT
BEGIN:VEVENT
DTSTART;TZID=Europe/Berlin:20260428T190000
DTEND;TZID=Europe/Berlin:20260428T220000
DTSTAMP:20260425T142917
CREATED:20251211T123444Z
LAST-MODIFIED:20260312T142102Z
UID:15045-1777402800-1777413600@www.fuelle-des-erdenlichts.de
SUMMARY:✨ Du bist eingeladen zum neuen Abend der Weiblichkeit ✨
DESCRIPTION:Wir öffnen einen Raum voller Magie\, Bewegung und Verbindung – 3 Stunden nur für uns Frauen 💃🌙 \nLass dich verzaubern bei: \n🌸 freiem Tanz –  der deine Seele zum Leuchten bringt \n🧘‍♀️ Meditation – die dich mit deiner inneren Kraft verbindet \n💬 achtsamen gemeinsamen Austausch – der dich stärkt \n💫 Glitzer\, Wärme & ganz viel weiblicher Energie und Kraft \nWir tauchen gemeinsam ein in die Schönheit der Weiblichkeit – sinnlich\, wild\, weich & stark. \nMit Kerzenlicht\, Musik\, Tee und ganz viel Herzenswärme 💗 \nBring mit: Bequeme Kleidung\, eine Decke\, Offenheit & Lust auf Gemeinschaft \nIch freue mich riesig auf dich! \nMit herzlichen Grüßen Ljiljana
URL:https://www.fuelle-des-erdenlichts.de/event/%e2%9c%a8-du-bist-eingeladen-zum-neuen-abend-der-weiblichkeit-%e2%9c%a8/
END:VEVENT
END:VCALENDAR