BEGIN:VCALENDAR
VERSION:2.0
PRODID:-//Fülle des Erdenlichts - ECPv6.15.20//NONSGML v1.0//EN
CALSCALE:GREGORIAN
METHOD:PUBLISH
X-ORIGINAL-URL:https://www.fuelle-des-erdenlichts.de
X-WR-CALDESC:Veranstaltungen für Fülle des Erdenlichts
REFRESH-INTERVAL;VALUE=DURATION:PT1H
X-Robots-Tag:noindex
X-PUBLISHED-TTL:PT1H
BEGIN:VTIMEZONE
TZID:Europe/Berlin
BEGIN:DAYLIGHT
TZOFFSETFROM:+0100
TZOFFSETTO:+0200
TZNAME:CEST
DTSTART:20240331T010000
END:DAYLIGHT
BEGIN:STANDARD
TZOFFSETFROM:+0200
TZOFFSETTO:+0100
TZNAME:CET
DTSTART:20241027T010000
END:STANDARD
BEGIN:DAYLIGHT
TZOFFSETFROM:+0100
TZOFFSETTO:+0200
TZNAME:CEST
DTSTART:20250330T010000
END:DAYLIGHT
BEGIN:STANDARD
TZOFFSETFROM:+0200
TZOFFSETTO:+0100
TZNAME:CET
DTSTART:20251026T010000
END:STANDARD
BEGIN:DAYLIGHT
TZOFFSETFROM:+0100
TZOFFSETTO:+0200
TZNAME:CEST
DTSTART:20260329T010000
END:DAYLIGHT
BEGIN:STANDARD
TZOFFSETFROM:+0200
TZOFFSETTO:+0100
TZNAME:CET
DTSTART:20261025T010000
END:STANDARD
END:VTIMEZONE
BEGIN:VEVENT
DTSTART;TZID=Europe/Berlin:20251211T190000
DTEND;TZID=Europe/Berlin:20251211T220000
DTSTAMP:20260425T213918
CREATED:20231213T132055Z
LAST-MODIFIED:20251118T133158Z
UID:14783-1765479600-1765490400@www.fuelle-des-erdenlichts.de
SUMMARY:Jahresabschluss-Meditation 2025
DESCRIPTION:Hallo ihr Lieben\, \nes ist wieder soweit – unser funkelndes Jahresabschluss-Channeling steht vor der Tür ✨ Ein Abend voller Zauber\, Wärme und Herzensfreude\, der jedes Jahr zu einem ganz besonderen Geschenk wird. \nGemeinsam tauchen wir ein in die nährende Energie\, die uns trägt und das Jahr 2025 liebevoll abrundet. Gleichzeitig öffnen wir uns für lichtvolle Botschaften und den Segen für ein strahlendes\, segensreiches und erfülltes Jahr 2026 🌈💫. \nGanz entspannt und achtsam\, lassen wir den Abend ausklingen – mit Tee\, kleinen Leckereien\, Lachen und viel Herz. Wenn du magst\, bring gerne etwas für unsere kleine Feier mit\, vielleicht Plätzchen oder Gebäck oder etwas anderes leckeres 🍪☕. \nSag mir bitte kurz Bescheid\, ob du dabei bist – ich freue mich riesig und bin voller Vorfreude auf diesen ganz besonderen Abend mit euch in meiner Praxis in Zangberg. \nVon Herzen und mit einem Lächeln 💖 \nLjiljana
URL:https://www.fuelle-des-erdenlichts.de/event/jahresabschluss-meditation/
END:VEVENT
END:VCALENDAR