BEGIN:VCALENDAR
VERSION:2.0
PRODID:-//Fülle des Erdenlichts - ECPv6.15.20//NONSGML v1.0//EN
CALSCALE:GREGORIAN
METHOD:PUBLISH
X-ORIGINAL-URL:https://www.fuelle-des-erdenlichts.de
X-WR-CALDESC:Veranstaltungen für Fülle des Erdenlichts
REFRESH-INTERVAL;VALUE=DURATION:PT1H
X-Robots-Tag:noindex
X-PUBLISHED-TTL:PT1H
BEGIN:VTIMEZONE
TZID:Europe/Berlin
BEGIN:DAYLIGHT
TZOFFSETFROM:+0100
TZOFFSETTO:+0200
TZNAME:CEST
DTSTART:20240331T010000
END:DAYLIGHT
BEGIN:STANDARD
TZOFFSETFROM:+0200
TZOFFSETTO:+0100
TZNAME:CET
DTSTART:20241027T010000
END:STANDARD
BEGIN:DAYLIGHT
TZOFFSETFROM:+0100
TZOFFSETTO:+0200
TZNAME:CEST
DTSTART:20250330T010000
END:DAYLIGHT
BEGIN:STANDARD
TZOFFSETFROM:+0200
TZOFFSETTO:+0100
TZNAME:CET
DTSTART:20251026T010000
END:STANDARD
BEGIN:DAYLIGHT
TZOFFSETFROM:+0100
TZOFFSETTO:+0200
TZNAME:CEST
DTSTART:20260329T010000
END:DAYLIGHT
BEGIN:STANDARD
TZOFFSETFROM:+0200
TZOFFSETTO:+0100
TZNAME:CET
DTSTART:20261025T010000
END:STANDARD
END:VTIMEZONE
BEGIN:VEVENT
DTSTART;TZID=Europe/Berlin:20251125T190000
DTEND;TZID=Europe/Berlin:20251125T203000
DTSTAMP:20260425T225422
CREATED:20230424T115405Z
LAST-MODIFIED:20251118T134217Z
UID:14628-1764097200-1764102600@www.fuelle-des-erdenlichts.de
SUMMARY:Neuer Abend der Weiblichkeit!!
DESCRIPTION:✨ Du bist eingeladen zum NEUEN Abend der Weiblichkeit ✨ \nAm 25.11.2025 von 19 bis 22 Uhr öffnen wir einen Raum voller Magie\, Bewegung und Verbindung – nur für uns Frauen 💃🌙 \nLass dich verzaubern bei: \n🌸 freiem Tanz –  der deine Seele zum Leuchten bringt \n🧘‍♀️ Meditation – die dich mit deiner inneren Kraft verbindet \n💬 achtsamen gemeinsamen Austausch – der dich stärkt \n💫 Glitzer\, Wärme & ganz viel weiblicher Energie und Kraft \nWir tauchen gemeinsam ein in die Schönheit der Weiblichkeit – sinnlich\, wild\, weich & stark. \nMit Kerzenlicht\, Musik\, Tee und ganz viel Herzenswärme 💗 \nBring mit: Bequeme Kleidung\, eine Decke\, Offenheit & Lust auf Gemeinschaft \nIch freue mich riesig auf dich! \nMit herzlichen Grüßen Ljiljana
URL:https://www.fuelle-des-erdenlichts.de/event/abend-der-weiblichkeit/
LOCATION:Zangberg\, Am Bergfeld 8\, Zangberg\, Bayern\, 84539\, Deutschland
CATEGORIES:Seminar
ORGANIZER;CN="Ljiljana Ertl":MAILTO:ljiljana@fuelle-des-erdenlichts.de
END:VEVENT
END:VCALENDAR