BEGIN:VCALENDAR
VERSION:2.0
PRODID:-//Fülle des Erdenlichts - ECPv6.15.20//NONSGML v1.0//EN
CALSCALE:GREGORIAN
METHOD:PUBLISH
X-WR-CALNAME:Fülle des Erdenlichts
X-ORIGINAL-URL:https://www.fuelle-des-erdenlichts.de
X-WR-CALDESC:Veranstaltungen für Fülle des Erdenlichts
REFRESH-INTERVAL;VALUE=DURATION:PT1H
X-Robots-Tag:noindex
X-PUBLISHED-TTL:PT1H
BEGIN:VTIMEZONE
TZID:Europe/Berlin
BEGIN:DAYLIGHT
TZOFFSETFROM:+0100
TZOFFSETTO:+0200
TZNAME:CEST
DTSTART:20240331T010000
END:DAYLIGHT
BEGIN:STANDARD
TZOFFSETFROM:+0200
TZOFFSETTO:+0100
TZNAME:CET
DTSTART:20241027T010000
END:STANDARD
BEGIN:DAYLIGHT
TZOFFSETFROM:+0100
TZOFFSETTO:+0200
TZNAME:CEST
DTSTART:20250330T010000
END:DAYLIGHT
BEGIN:STANDARD
TZOFFSETFROM:+0200
TZOFFSETTO:+0100
TZNAME:CET
DTSTART:20251026T010000
END:STANDARD
BEGIN:DAYLIGHT
TZOFFSETFROM:+0100
TZOFFSETTO:+0200
TZNAME:CEST
DTSTART:20260329T010000
END:DAYLIGHT
BEGIN:STANDARD
TZOFFSETFROM:+0200
TZOFFSETTO:+0100
TZNAME:CET
DTSTART:20261025T010000
END:STANDARD
END:VTIMEZONE
BEGIN:VEVENT
DTSTART;TZID=Europe/Berlin:20250619T100000
DTEND;TZID=Europe/Berlin:20250622T150000
DTSTAMP:20260426T053612
CREATED:20240123T130656Z
LAST-MODIFIED:20250522T071347Z
UID:14806-1750327200-1750604400@www.fuelle-des-erdenlichts.de
SUMMARY:Die eigene Magie und Urkraft der Weiblichkeit entdecken
DESCRIPTION:Beschreibung hier anklicken  =>Magie und Urkraft der absoluten Weiblichkeit! \n19.06.25 von 10 bis 17 Uhr\n20. /21. von 09 bis 17 Uhr\n22.06.25 von 09 bis 15 Uhr
URL:https://www.fuelle-des-erdenlichts.de/event/neu-urkraft-der-weiblichkeit-auch-fuer-maenner/
END:VEVENT
END:VCALENDAR