BEGIN:VCALENDAR
VERSION:2.0
PRODID:-//Fülle des Erdenlichts - ECPv6.15.20//NONSGML v1.0//EN
CALSCALE:GREGORIAN
METHOD:PUBLISH
X-WR-CALNAME:Fülle des Erdenlichts
X-ORIGINAL-URL:https://www.fuelle-des-erdenlichts.de
X-WR-CALDESC:Veranstaltungen für Fülle des Erdenlichts
REFRESH-INTERVAL;VALUE=DURATION:PT1H
X-Robots-Tag:noindex
X-PUBLISHED-TTL:PT1H
BEGIN:VTIMEZONE
TZID:Europe/Berlin
BEGIN:DAYLIGHT
TZOFFSETFROM:+0100
TZOFFSETTO:+0200
TZNAME:CEST
DTSTART:20240331T010000
END:DAYLIGHT
BEGIN:STANDARD
TZOFFSETFROM:+0200
TZOFFSETTO:+0100
TZNAME:CET
DTSTART:20241027T010000
END:STANDARD
BEGIN:DAYLIGHT
TZOFFSETFROM:+0100
TZOFFSETTO:+0200
TZNAME:CEST
DTSTART:20250330T010000
END:DAYLIGHT
BEGIN:STANDARD
TZOFFSETFROM:+0200
TZOFFSETTO:+0100
TZNAME:CET
DTSTART:20251026T010000
END:STANDARD
BEGIN:DAYLIGHT
TZOFFSETFROM:+0100
TZOFFSETTO:+0200
TZNAME:CEST
DTSTART:20260329T010000
END:DAYLIGHT
BEGIN:STANDARD
TZOFFSETFROM:+0200
TZOFFSETTO:+0100
TZNAME:CET
DTSTART:20261025T010000
END:STANDARD
END:VTIMEZONE
BEGIN:VEVENT
DTSTART;TZID=Europe/Berlin:20250529T100000
DTEND;TZID=Europe/Berlin:20250601T150000
DTSTAMP:20260426T053611
CREATED:20250105T121754Z
LAST-MODIFIED:20250415T120747Z
UID:14822-1748512800-1748790000@www.fuelle-des-erdenlichts.de
SUMMARY:Endlich - Frei Sein !!
DESCRIPTION:Pure Transformationskraft !!! \nFrei sein – das große JA zum LEBEN \nWas ist Freiheit? \nFrei sein – raus aus den Konditionierungen unserer Erziehung und unseres Umfeldes. \nFrei sein – von begrenzenden Ängsten und Verwicklungen \nFrei sein – physisch\, psychisch und spirituell \nFrei nach dem Motto:      Nährt es oder leert es unser Herz?  \n                                      Was macht uns frei\, stark und glücklich? \nProgramme\, Bedürfnisse\, Bedürftigkeit\, Automatismen und Ängste erkennen. Den Ursachen auf den Grund gehen. Wege hinaus aus diesen Konditionierungen. Loslassen um Platz zu haben für Neues und Wundervolles. \nEine Reise zu sich selbst. \nGemeinsame Prozessarbeit\, Entwicklung hin zu Freude und Leichtigkeit. \nEin inneres und äußeres „Freitanzen“ ins Leben. \nNeue Ressourcen finden\, integrieren und erwachen zu deinem höchsten Potential. \nWundervolle nährende Erlebnisse\, die demütig machen und dich ins freie Leben begleiten. \nWann:         29.05. bis 01.06.2025 \nAnmeldeschluss: 02.05.2025
URL:https://www.fuelle-des-erdenlichts.de/event/frei-sein-neu/
CATEGORIES:Seminar
END:VEVENT
END:VCALENDAR